BEGIN:VCALENDAR
VERSION:2.0
PRODID:-//hacksw/handcal//NONSGML v1.0//EN
METHOD:PUBLISH
X-WR-TIMEZONE:America/New_York
BEGIN:VEVENT
UID:1710@events.naz.edu
DTSTART:20161210T140000Z
DTEND:20161210T150000Z
SUMMARY:Fancy Nancy Splendiferous Christmas
DESCRIPTION:<p><span>What could be fancier than Christmas? Elegantly wrapped presents! Festive decorations! Cookies with sprinkles! And who could forget the tree? After all\, there is no such thing as too much tinsel—ooh la la! This year\, Nancy is especially excited: after selling some of her gowns and accessories\, she finally has enough money to buy a brand-new\, sparkly tree topper. But when things don't turn out as she planned\, will Nancy’s Christmas still be splendiferous?<\span><\p>\n<p><span>In this merriest of stories based on the bestselling book by Jane O'Connor and Robin Preiss Glasser\, Nancy proves once again that a little fancying up can go a long\, festive way!<\span><\p>\n<p><span>Suggested for children ages 2+ and their families; 60 minutes with no intermission<\span><\p>\n<p><em><span>Produced and presented by: Vital Theatre Company<\span><\em><\p>\n<p><em><span><em><span>Media Sponsor: WXXI<\span><\em><\span><\em><\p>\n<h2>Performances<\h2>\n<ul>\n<li><span>Saturday\, December 10\, 2016 | Sensory friendly performance for children with an autism spectrum disorder or other sensory needs | <strong>11 a.m. – 12 p.m.<\strong><\span><\li>\n<li><span>Saturday\, December 10\, 2016 | <strong>2 – 3 p.m.<\strong><\span><\li>\n<\ul>
LOCATION:Callahan Theater\, Arts Center
RRULE:FREQ=DAILY;COUNT=2
END:VEVENT
BEGIN:VEVENT
UID:81-override@events.naz.edu
DTSTART:20161210T110000Z
DTEND:20161210T120000Z
SUMMARY:Fancy Nancy Splendiferous Christmas
RECURRENCE-ID:20161211T140000Z
END:VEVENT
END:VCALENDAR
