BEGIN:VCALENDAR
VERSION:2.0
PRODID:-//hacksw/handcal//NONSGML v1.0//EN
METHOD:PUBLISH
X-WR-TIMEZONE:America/New_York
BEGIN:VEVENT
UID:1721@events.naz.edu
DTSTART:20161117T193000Z
DTEND:20161117T220000Z
SUMMARY:A Midsummer Night’s Dream
DESCRIPTION:<p>Set in an enchanted forest on a summer night\, a quarrel between the fairy king and queen results in a comedy of errors for a band of starry-eyed young lovers and a bumbling company of amateur actors rehearsing a play within the play. The plot thickens when Puck—a charismatic and mischievous sprite—interferes\, but Shakespeare’s delightful comedy ends happily once the ensuing string of mishaps and mistaken identities have been resolved—proving once and for all that “the course of true love never did run smooth” (Lysander).<\p>\n<p><em>An exploration of magic using non-traditional casting\, presented by the Nazareth College Theatre and Dance Department<\em><\p>\n<p><em>Illustration by Joey Navedo\, visual communications design major<\em><\p>\n<h2><span><span><span>Performances<\span><\span><\span><\h2>\n<ul>\n<li>\n<p>Thursday\, November 17\, 2016 | <strong>7:30 – 10 p.m.<\strong><\p>\n<\li>\n<li>\n<p>Friday\, November 18\, 2016 | <strong>7:30 – 10 p.m.<\strong><\p>\n<\li>\n<li>\n<p>Saturday\, November 19\, 2016 | <strong>7:30 – 10 p.m.<\strong><\p>\n<\li>\n<li>\n<p>Sunday\, November 20\, 2016 | <strong>2 – 4:30 p.m.<\strong><\p>\n<\li>\n<\ul>
LOCATION:Callahan Theater\, Arts Center
RRULE:FREQ=DAILY;UNTIL=20161121T003000Z
END:VEVENT
BEGIN:VEVENT
UID:96-override@events.naz.edu
DTSTART:20161120T140000Z
DTEND:20161120T163000Z
SUMMARY:A Midsummer Night’s Dream
RECURRENCE-ID:20161120T193000Z
END:VEVENT
END:VCALENDAR
