BEGIN:VCALENDAR
VERSION:2.0
PRODID:-//hacksw/handcal//NONSGML v1.0//EN
METHOD:PUBLISH
X-WR-TIMEZONE:America/New_York
BEGIN:VEVENT
UID:2169@events.naz.edu
DTSTART:20180324T200000Z
DTEND:20180324T213000Z
SUMMARY:Brass Transit: The Musical Legacy of Chicago
DESCRIPTION:<p dir=\"ltr\"><span style=\"text-decoration: none;\">Brass Transit—Toronto's dynamic\, crowd-pleasing\, studio-tight tribute and the world's foremost interpreters of the music of Chicago—has thrilled audiences worldwide with world-class horns\, a rocking rhythm section\, and hits from the original band's multi-platinum songbook. Travel back to the Rock &amp; Roll Hall of Fame band’s golden age with hits like “Saturday In The Park\,”<\span><span style=\"text-decoration: none;\"> “<\span><span style=\"text-decoration: none;\">25 or 6 To 4\,” “If You Leave Me Now\,” “Feelin’ Stronger Every Day\,” and “Beginnings.”<\span><\p>\n<p dir=\"ltr\"><span style=\"text-decoration: none;\">With eight of Canada’s most talented musicians—whose individual credits include platinum records\, Emmy and Juno Awards\, and performances with rock and soul acts that include The Drifters\, Aretha Franklin\, The Mamas &amp; The Papas\, and Frankie Valli—Brass Transit has established itself as the world's foremost Chicago experience\, and a powerhouse tribute to the greatest jazz-rock group of all time!<\span><\p>\n<p dir=\"ltr\"><span style=\"text-decoration: none;\"><span>Single tickets: $35–$50 (eligible for Arts Center 15% and 20% subscriber discounts)<\span><\span><\p>\n<p dir=\"ltr\"><em><span style=\"text-decoration: none;\">Sponsored by Dr. Dawn Lipson<\span><\em><\p>
LOCATION:Callahan Theater\, Arts Center
END:VEVENT
END:VCALENDAR
