BEGIN:VCALENDAR
VERSION:2.0
PRODID:-//hacksw/handcal//NONSGML v1.0//EN
METHOD:PUBLISH
X-WR-TIMEZONE:America/New_York
BEGIN:VEVENT
UID:2281@events.naz.edu
DTSTART:20171008T190000Z
DTEND:20171008T210000Z
SUMMARY:“The President’s Own” United States Marine Band
DESCRIPTION:<p><span>Nazareth College is proud to welcome \"The President's Own\" United States Marine Band to the Arts Center for a free concert. Established by an Act of Congress in 1798\, the United States Marine Band is America’s oldest continuously active professional musical organization. Tickets are free but required and are available at <a href=\"http:\\marineband.ticketleap.com\usmbtourrochester\" rel=\"noreferrer\" target=\"_blank\" data-saferedirecturl=\"https:\\www.google.com\url?hl=en&amp;q=http:\\marineband.ticketleap.com\usmbtourrochester&amp;source=gmail&amp;ust=1504972909101000&amp;usg=AFQjCNFwSj95VFlxPVRP-d6Qiwiu89dLqw\">marineband.ticketleap.com\usmbtourrochester<\a>.<\span><\p>
LOCATION:Callahan Theater\, Arts Center
END:VEVENT
END:VCALENDAR
