BEGIN:VCALENDAR
VERSION:2.0
PRODID:-//hacksw/handcal//NONSGML v1.0//EN
METHOD:PUBLISH
X-WR-TIMEZONE:America/New_York
BEGIN:VEVENT
UID:288@events.naz.edu
DTSTART:20140401T190000Z
DTEND:20140401T200000Z
SUMMARY:The Hungarian Holocaust in Historical Memory
DESCRIPTION:<p>This lecture is dedicated to the over half million victims of the Hungarian Holocaust. Dr. Tamas Stark is a noted Hungarian historian who studied the Holocaust and ethinic cleansing as a consequence of WWII.<\p>
LOCATION:Shults Center Forum\, Nazareth College
END:VEVENT
END:VCALENDAR
