BEGIN:VCALENDAR
VERSION:2.0
PRODID:-//hacksw/handcal//NONSGML v1.0//EN
METHOD:PUBLISH
X-WR-TIMEZONE:America/New_York
BEGIN:VEVENT
UID:3045@events.naz.edu
DTSTART:20190406T200000Z
DTEND:20190406T213000Z
SUMMARY:Aaron Diehl
DESCRIPTION:<p>Pianist Aaron Diehl is one of today’s most sought after jazz virtuosos\, consistently playing with what <em>The New York Times<\em> describes as “melodic precision\, harmonic erudition\, and elegant restraint.” A featured soloist with the New York Philharmonic\, Diehl’s meticulously thought-out performances\, collaborations\, and compositions are a leading force in today’s generation of jazz contemporaries\, spearheading a distinct union of traditional and fresh artistry.<\p>\n<p>In \"Paradoxes in Performance\,\" Diehl interprets classical works and brings a new twist to jazz favorites.<\p>\n<p><strong>Location:<\strong> Beston Hall in the Jane and Laurence Glazer Music Performance Center (Parking Lot A)<\p>\n<p>Single tickets: $38 per person\, reserved seating (eligible for Arts Center 15% and 20% subscriber discounts)<\p>\n<p><em>Sponsored by Paul and Nancy Strelau.<\em><\p>\n<p><strong>Program to be announced from stage. Works to be selected from include:<\strong><\p>\n<p>WILLIAM GRANT STILL<br \><em>Lenox Avenue: The Blues<\em><\p>\n<p>AARON COPLAND<br \>Piano Blues No. 4 from <em>Four Piano Blues<\em> <br \> John Kirkpatrick – With Bounce<\p>\n<p>LOUIS MOREAU GOTTSCHALK<br \><em>Danza<\em>\, Op.33<\p>\n<p>JELLY ROLL MORTON<br \><em>Original Jelly Roll Blues<\em><\p>\n<p>AARON DIEHL<br \>Variations of a Theme by Satie<\p>\n<p>PHILIP GLASS<br \>Etude No. 16<\p>\n<p>JOHN LEWIS<br \><em>Milano<\em><\p>\n<p>ANTON DVORAK<br \>arr. Art Tatum<br \><em>Going Home<\em><\p>\n<p>JAMES P. JOHNSON<br \>“Adagio” from <em>Concerto Jazz-A-Mine<\em><\p>\n<p>DICK HYMAN<br \>Etudes<\p>\n<p>DUKE ELLINGTON<br \><em>New World A-Comin’<\em><\p>
LOCATION:Beston Hall\, Glazer Music Performance Center
END:VEVENT
END:VCALENDAR
