BEGIN:VCALENDAR
VERSION:2.0
PRODID:-//hacksw/handcal//NONSGML v1.0//EN
METHOD:PUBLISH
X-WR-TIMEZONE:America/New_York
BEGIN:VEVENT
UID:3051@events.naz.edu
DTSTART:20181205T193000Z
DTEND:20181205T213000Z
SUMMARY:Garth Fagan Dance
DESCRIPTION:<p>For nearly 50 years\, the critics have raved that “an evening spent with Garth Fagan Dance is a humanity-affirming event” (Los Angeles Times).<\p>\n<p>A true Rochester treasure\, internationally acclaimed Garth Fagan Dance packs a punch with Fagan’s signature technique which marries the gravity of modern dance\, the precision of ballet\, and the power of Afro-Caribbean styles.<\p>\n<p>Garth Fagan Dance will perform two dynamic world premieres and three vibrant revivals from the company’s rich archive. The new works include <em>The North Star<\em> by Garth Fagan – a celebration of the life of Frederick Douglass on the bicentennial of his birth – and an impressionistic work\, <em>Distant Kin<\em>\, set to electronic music and choreographed by 40 year veteran Norwood Pennewell. The program also includes <em>In Memoriam<\em>\, created in 2001 as a moving tribute to the victims and families of 9\11\, and to the influential lives recently lost: Aretha Franklin\, John McCain\, Arthur Mitchell\, and Paul Taylor.<\p>\n<p>Single tickets: $40–$55 (eligible for Arts Center 15% and 20% subscriber discounts)<\p>\n<p><em>Photo: Erich Camping<\em><\p>\n<h3>Performances<\h3>\n<ul>\n<li>Wednesday\, Dec. 5 | 7:30 p.m.<\li>\n<li>Thursday\, Dec. 6 | 8 p.m.<\li>\n<li>Friday\, Dec. 7 | 8 p.m.<\li>\n<li>Saturday\, Dec. 8 | 2 p.m.<\li>\n<li>Saturday\, Dec. 8 | 8 p.m.<\li>\n<li>Sunday\, Dec. 9 | 2 p.m.<\li>\n<\ul>
LOCATION:Callahan Theater\, Arts Center
RRULE:FREQ=DAILY;COUNT=6
END:VEVENT
BEGIN:VEVENT
UID:535-override@events.naz.edu
DTSTART:20181206T200000Z
DTEND:20181206T220000Z
SUMMARY:Garth Fagan Dance
RECURRENCE-ID:20181206T193000Z
END:VEVENT
BEGIN:VEVENT
UID:536-override@events.naz.edu
DTSTART:20181207T200000Z
DTEND:20181207T220000Z
SUMMARY:Garth Fagan Dance
RECURRENCE-ID:20181207T193000Z
END:VEVENT
BEGIN:VEVENT
UID:537-override@events.naz.edu
DTSTART:20181208T140000Z
DTEND:20181208T160000Z
SUMMARY:Garth Fagan Dance
RECURRENCE-ID:20181208T193000Z
END:VEVENT
BEGIN:VEVENT
UID:538-override@events.naz.edu
DTSTART:20181208T200000Z
DTEND:20181208T220000Z
SUMMARY:Garth Fagan Dance
RECURRENCE-ID:20181209T193000Z
END:VEVENT
BEGIN:VEVENT
UID:539-override@events.naz.edu
DTSTART:20181209T140000Z
DTEND:20181209T160000Z
SUMMARY:Garth Fagan Dance
RECURRENCE-ID:20181210T193000Z
END:VEVENT
END:VCALENDAR
