BEGIN:VCALENDAR
VERSION:2.0
PRODID:-//hacksw/handcal//NONSGML v1.0//EN
METHOD:PUBLISH
X-WR-TIMEZONE:America/New_York
BEGIN:VEVENT
UID:3082@events.naz.edu
DTSTART:20181115T193000Z
DTEND:20181115T213000Z
SUMMARY:Spring Awakening
DESCRIPTION:<p><em>SPRING AWAKENING<\em>\, an alt-rock musical based on the play by Frank Wedekind\, is a winner of eight Tony Awards\, including best musical. Deemed confrontational and controversial\, the piece is adult in nature and wrestles with teen struggles around physical and emotional maturation. It is Germany\, 1891\, following the lives of school adolescents - headstrong Melchior\,  innocent Wendla\, and troubled Moritz\, exploring the turbulence of budding sexuality in a powerful celebration of teen rebellion.<\p>\n<p dir=\"ltr\"><em>*Spring Awakening <span>contains mature language\, suggested sexuality and themes\, and strong content.<\span><br \><\em><\p>\n<p>Book &amp; Lyrics by Steven Sater   Music by Duncan Sheik<br \>Based on the play by Frank Wedekind<br \>Director\Choreographer: Brett Smock   Musical Director: Corinne Aquilina <\p>\n<p><strong>Performances:<\strong><\p>\n<ul>\n<li>7:30 p.m. November 15\, 16\, 17\, 18 <\li>\n<li>2 p.m. November 17\, 18 <\li>\n<li><strong>Added Performance: Friday\, November 16 at 11 p.m.<\strong><\li>\n<\ul>
LOCATION:Studio Theater A48
RRULE:FREQ=DAILY;UNTIL=20181119T045959Z
END:VEVENT
END:VCALENDAR
