BEGIN:VCALENDAR
VERSION:2.0
PRODID:-//hacksw/handcal//NONSGML v1.0//EN
METHOD:PUBLISH
X-WR-TIMEZONE:America/New_York
BEGIN:VEVENT
UID:3083@events.naz.edu
DTSTART:20190215T193000Z
DTEND:20190215T213000Z
SUMMARY:Vinegar Tom
DESCRIPTION:<p>Under the guise of a 17th century witch hunt\, Nazareth College Theatre and Dance Department and Theatre League's latest production will explore the marginalization of women in both the past and present.<\p>\n<p>Obie Award winning author Caryl Churchill examines the oppressive marginalization of women in the powerful <em>Vinegar Tom<\em>\, a play with music and dance. Alice\, her mother Joan\, and other women in the neighborhood are not fitting the societal norms—sparking an investigation by doctors and witch hunters. What unfolds is a tale of injustice and patriarchy that begs the question—where does real evil lie?<\p>\n<p><em><strong>**This show contains mature themes\, sexuality\, and language.**<\strong><\em><\p>\n<p dir=\"ltr\"><em>Vinegar Tom is presented by special arrangement with SAMUEL FRENCH\, INC.<\em><\p>\n<p dir=\"ltr\"><a href=\"https:\\www2.naz.edu\news\archive\2019\January\493\witchcraft-trials-and-gender-inequality-in-nazareth-college-production-of-vinegar-tom\">Learn more about Vinegar Tom<\a>.<\p>\n<p>By Caryl Churchill <br \>Music by Helen Galvin<br \>Directed by Lindsay Reading Korth<br \>Associate director\choreographer Hettie Barnhill<br \>Assistant choreographer Alexandria Ireijo<br \>Musical director Julia Covach<\p>\n<p><strong>Performances:<\strong><\p>\n<ul>\n<li>7:30 p.m. February 15\,16\, 22\, 23<\li>\n<li>2 p.m. February 17\, 24<\li>\n<\ul>\n<p> <\p>\n<p>Photo caption: <span>L to R: Sara Hayward (Joan) and Josephine Herlong (Alice) play mother and daughter in the Nazareth College production of <em>Vinegar Tom<\em>.<\span><\p>
LOCATION:Studio Theater A48
RRULE:FREQ=WEEKLY;UNTIL=20190225T045959Z;BYDAY=SU\,FR\,SA
END:VEVENT
BEGIN:VEVENT
UID:602-override@events.naz.edu
DTSTART:20190215T193000Z
DTEND:20190215T213000Z
SUMMARY:Vinegar Tom
RECURRENCE-ID:20190215T193000Z
END:VEVENT
END:VCALENDAR
