BEGIN:VCALENDAR
VERSION:2.0
PRODID:-//hacksw/handcal//NONSGML v1.0//EN
METHOD:PUBLISH
X-WR-TIMEZONE:America/New_York
BEGIN:VEVENT
UID:3101@events.naz.edu
DTSTART:20190531T000000Z
DTEND:20190615T000000Z
SUMMARY:Shared Spaces 2019
DESCRIPTION:<p>Shared Spaces is an annual high school art teacher\student show designed to celebrate the unique apprenticeship process that occurs between teacher and student. Each teacher submits one piece of his\her own work that was created within the last three years and selects one student with whom to show their work. To honor the concept of gallery space being equal\, the work is displayed without identifying whether a teacher or a student created it.<\p>\n<p>Opening Reception: Friday\, May 31 from 5 – 8 p.m.<\p>\n<p>Gallery Hours:<\p>\n<ul>\n<li>Monday\, Tuesday\, Wednesday\, Thursday\, Friday 4-8 p.m.<\li>\n<li>Friday\, Saturday Noon-5 p.m.<\li>\n<\ul>
LOCATION:Arts Center Gallery\, Arts Center
END:VEVENT
END:VCALENDAR
