BEGIN:VCALENDAR
VERSION:2.0
PRODID:-//hacksw/handcal//NONSGML v1.0//EN
METHOD:PUBLISH
X-WR-TIMEZONE:America/New_York
BEGIN:VEVENT
UID:3597@events.naz.edu
DTSTART:20190418T193000Z
DTEND:20190418T220000Z
SUMMARY:Bonnie & Clyde: A New Musical
DESCRIPTION:<p>In the midst of the Great Depression\, small-town nobodies Bonnie Parker and Clyde Barrow spark a bold and reckless romance - driven by a mutual desire for fame and fortune. As their law-breaking adventure spirals in unexpected directions\, their inevitable fate grows closer. Their rise to outlaw infamy unfolds in the Tony-nominated musical\, <em>Bonnie &amp; Clyde<\em>.<\p>\n<p><em>Bonnie &amp; Clyde<\em> was written by Frank Wildhorn (music)\, Don Black (lyrics)\, and Ivan Menchell (book). It is directed by New York City-based Aaron Galligan-Stierle with musical direction by Corinne Aquilina\, assistant professor and program director of musical theatre at Nazareth College.<\p>\n<p>Presented by the Theatre &amp; Dance Department and Theatre League<\p>\n<p><strong>POST-SHOW TALKBACK<\strong><br \><a href=\"https:\\www.cityofrochester.gov\article.aspx?id=21474836768\">Willie Lightfoot<\a> is a Rochester City Council member at-large and the creator and chairman of <a href=\"https:\\www.cityofrochester.gov\thinkaboutit\\">ROC Against Gun Violence Coalition<\a>. He and the cast of <em>Bonnie &amp; Clyde<\em> will be giving a talk back following their opening performance on Thursday April 18.<\p>\n<p>Watch a WROC News8 Interview with Mark Gruba <a href=\"https:\\www.rochesterfirst.com\news\local-news\-bonnie-clyde-musical-love-story\1930331439\">here<\a><\p>\n<p><strong>Performances: <\strong><\p>\n<ul>\n<li>7:30 p.m. April 18\, 19\, 20<\li>\n<li>2 p.m. April 20<\li>\n<\ul>
LOCATION:Callahan Theater\, Arts Center
RRULE:FREQ=DAILY;UNTIL=20190422T035959Z
EXDATE:20190421T193000Z
END:VEVENT
END:VCALENDAR
