BEGIN:VCALENDAR
VERSION:2.0
PRODID:-//hacksw/handcal//NONSGML v1.0//EN
METHOD:PUBLISH
X-WR-TIMEZONE:America/New_York
BEGIN:VEVENT
UID:3626@events.naz.edu
DTSTART:20190118T143000Z
DTEND:20190118T153000Z
SUMMARY:Yoga for Athletes
DESCRIPTION:<p>Calling all athletes! Come enjoy an hour of yoga to restore your body. <\p>
LOCATION:Shults Center
RRULE:FREQ=WEEKLY;COUNT=15;BYDAY=FR
END:VEVENT
END:VCALENDAR
