BEGIN:VCALENDAR
VERSION:2.0
PRODID:-//hacksw/handcal//NONSGML v1.0//EN
METHOD:PUBLISH
X-WR-TIMEZONE:America/New_York
BEGIN:VEVENT
UID:3633@events.naz.edu
DTSTART:20190127T140000Z
DTEND:20190127T150000Z
SUMMARY:Featured Flyers
DESCRIPTION:<p>Featured Flyers is an all-inclusive intramural sports team for anyone at Nazareth College. Our goal is to encourage social accessibility\, sportsmanship\, teamwork\, and a healthy lifestyle for all involved. <\p>
LOCATION:Kidera Gymnasium\, Shults Center
RRULE:FREQ=WEEKLY;UNTIL=20190506T035959Z;BYDAY=SU
EXDATE:20190324T140000Z
EXDATE:20190407T140000Z
EXDATE:20190505T140000Z
END:VEVENT
END:VCALENDAR
