BEGIN:VCALENDAR
VERSION:2.0
PRODID:-//hacksw/handcal//NONSGML v1.0//EN
METHOD:PUBLISH
X-WR-TIMEZONE:America/New_York
BEGIN:VEVENT
UID:3641@events.naz.edu
DTSTART:20190329T193000Z
DTEND:20190329T213000Z
SUMMARY:Woven: Spring Dance Concert
DESCRIPTION:<p>Established and emerging artists will come together for two nights of extraordinary dance representing diverse styles at the Nazareth College Theatre and Dance Department's Spring Dance Concert\, <em>Woven.<\em> The concert will feature new work\, repertory\, and collaborations from students\, faculty\, and guest artists.<\p>\n<p>Artistic Director: Heather Roffe<\p>\n<p><strong>Performances:<\strong><\p>\n<ul>\n<li>March 29: 7:30-9:30 p.m.<\li>\n<li>March 30: 7:30-9:30 p.m.<\li>\n<\ul>\n<p><strong>General admission tickets: <\strong><\p>\n<ul>\n<li>$10 for general admission<\li>\n<li>$8 for seniors<\li>\n<li>$5 at the door for non-Nazareth students with I.D. <\li>\n<li>Nazareth students get one (1) free ticket with I.D.<\li>\n<\ul>\n<p><a href=\"https:\\www2.naz.edu\artscenter\tickets\?webeventid=17T04\"> <\a><\p>
LOCATION:Callahan Theater\, Arts Center
RRULE:FREQ=DAILY;UNTIL=20190331T035959Z
END:VEVENT
END:VCALENDAR
