BEGIN:VCALENDAR
VERSION:2.0
PRODID:-//hacksw/handcal//NONSGML v1.0//EN
METHOD:PUBLISH
X-WR-TIMEZONE:America/New_York
BEGIN:VEVENT
UID:4179@events.naz.edu
DTSTART:20191123T200000Z
DTEND:20191123T220000Z
SUMMARY:Dustbowl Revival
DESCRIPTION:<p>L.A.’s Dustbowl Revival is an eight member musical collective who play it all\, combining a vibrant mix of vintage Americana into a genre-hopping\, time-bending dance party.<\p>\n<p>Critics have proclaimed that this eclectic group “would have sounded utterly at home within the hallowed confines of Preservation Hall in New Orleans' French Quarter” (<em>Los Angeles Times<\em>) and their “upbeat\, old-school\, All-American sonic safaris exemplify everything shows should be: hot\, spontaneous\, engaging and\, best of all\, a pleasure to hear” (<em>L.A. Weekly<\em>). Rob Sheffield\, in <em>Rolling Stone<\em>\, hailed them as a great band “whose Americana swing was so fun I went back to see them again the next day.”<\p>\n<p>A smash hit at the Rochester International Jazz Festival in 2018\, Dustbowl Revival returns to Rochester preaching the gospel of funk\, folk\, and down home Americana.<br \><br \>More videos <a href=\"https:\\www.youtube.com\channel\UCbBG2P_zUblgpxF65YmuSZw\">here<\a><\p>\n<p>Tickets: $20-$40 <span>(eligible for Arts Center subscriber discounts)<\span><\p>\n<p><span><em>Sponsored in part by Larry and Nancy Peckham<\em><\span><\p>
LOCATION:Callahan Theater\, Arts Center
END:VEVENT
END:VCALENDAR
