BEGIN:VCALENDAR
VERSION:2.0
PRODID:-//hacksw/handcal//NONSGML v1.0//EN
METHOD:PUBLISH
X-WR-TIMEZONE:America/New_York
BEGIN:VEVENT
UID:4479@events.naz.edu
DTSTART:20190910T121500Z
DTEND:20190910T130000Z
SUMMARY:CSDA Club Meeting
DESCRIPTION:<p>Come join The Communications Science and Disorders Association and learn about communication disorders and their treatments!<\p>
LOCATION:York Wellness and Rehab Institute\, Room 250\, CSD Teaching Lab
RRULE:FREQ=MONTHLY;COUNT=4;BYDAY=2TU
END:VEVENT
BEGIN:VEVENT
UID:892-override@events.naz.edu
DTSTART:20191203T121000Z
DTEND:20191203T130000Z
SUMMARY:CSDA Club Meeting
RECURRENCE-ID:20191210T121000Z
END:VEVENT
END:VCALENDAR
