BEGIN:VCALENDAR
VERSION:2.0
PRODID:-//hacksw/handcal//NONSGML v1.0//EN
METHOD:PUBLISH
X-WR-TIMEZONE:America/New_York
BEGIN:VEVENT
UID:4537@events.naz.edu
DTSTART:20200213T193000Z
DTEND:20200213T220000Z
SUMMARY:Polaroid Stories
DESCRIPTION:<p><span>A visceral blend of classical mythology and real life stories told by street kids\, Naomi lizuka's <em>Polaroid Stories<\em> journeys into a dangerous world where myth-making fulfills a fierce need for transcendence\, where storytelling has the power to transform a reality in which characters' lives are continually threatened\, devalued\, and effaced. Informed by interviews with young prostitutes and street kids\, Polaroid Stories conveys a whirlwind of psychic disturbance\, confusion and longing. Like their mythic counterparts\, these modem-day mortals are engulfed by needs that burn and consume. Their language mixes poetry and profanity\, imbuing the play with lyricism and great theatrical force.<\span><\p>\n<p><em>For mature audiences only. Strong language and mature situations.<\em><\p>\n<p><em>Presented by the Nazareth College Theatre and Dance Department<\em><\p>\n<h3>Performances<\h3>\n<ul type=\"disc\">\n<li>Thursday\, Feb. 13 at 7:30 p.m.<\li>\n<li>Friday\, Feb. 14 at 7:30 p.m.<\li>\n<li>Saturday\, Feb. 15 at 2 p.m. &amp; 7:30 p.m.<\li>\n<li>Sunday\, Feb. 16 at 2 p.m. &amp; 7:30 p.m.<\li>\n<\ul>\n<p dir=\"ltr\"><strong>Post-show talkback<\strong><\p>\n<p dir=\"ltr\"><span>Jeffery Footer\, <\span><span>LMSW CASAC-G Addiction Therapist and<\span><span> Nazareth College adjunct professor in social work\, will give a talk-back following the 2 p.m. performance on Saturday\, February 15.<\span><\p>\n<p><span>Tickets: $12\, $10 senior<\span><\p>
LOCATION:Arts Center\, Room 48 
RRULE:FREQ=WEEKLY;WKST=SU;COUNT=6;BYDAY=TH
END:VEVENT
BEGIN:VEVENT
UID:931-override@events.naz.edu
DTSTART:20200214T193000Z
DTEND:20200214T220000Z
SUMMARY:Polaroid Stories
RECURRENCE-ID:20200220T193000Z
END:VEVENT
BEGIN:VEVENT
UID:932-override@events.naz.edu
DTSTART:20200215T193000Z
DTEND:20200215T220000Z
SUMMARY:Polaroid Stories
RECURRENCE-ID:20200227T193000Z
END:VEVENT
BEGIN:VEVENT
UID:933-override@events.naz.edu
DTSTART:20200216T193000Z
DTEND:20200216T220000Z
SUMMARY:Polaroid Stories
RECURRENCE-ID:20200305T193000Z
END:VEVENT
BEGIN:VEVENT
UID:934-override@events.naz.edu
DTSTART:20200215T140000Z
DTEND:20200215T160000Z
SUMMARY:Polaroid Stories
RECURRENCE-ID:20200312T193000Z
END:VEVENT
BEGIN:VEVENT
UID:935-override@events.naz.edu
DTSTART:20200216T140000Z
DTEND:20200216T160000Z
SUMMARY:Polaroid Stories
RECURRENCE-ID:20200319T193000Z
END:VEVENT
END:VCALENDAR
