BEGIN:VCALENDAR
VERSION:2.0
PRODID:-//hacksw/handcal//NONSGML v1.0//EN
METHOD:PUBLISH
X-WR-TIMEZONE:America/New_York
BEGIN:VEVENT
UID:4550@events.naz.edu
DTSTART:20191011T170000Z
DTEND:20191011T190000Z
SUMMARY:Women's Volleyball vs Alfred
DESCRIPTION:<p>The Golden Flyers host Alfred at 5 p.m<\p>\n<p>If you can't make the game\, watch the webcast and follow live stats <a href=\"https:\\portal.stretchinternet.com\nazareth\\">here<\a><\p>
LOCATION:Kidera Gymnasium\, Shults Center
END:VEVENT
END:VCALENDAR
