BEGIN:VCALENDAR
VERSION:2.0
PRODID:-//hacksw/handcal//NONSGML v1.0//EN
METHOD:PUBLISH
X-WR-TIMEZONE:America/New_York
BEGIN:VEVENT
UID:4709@events.naz.edu
DTSTART:20191003T173000Z
DTEND:20191003T190000Z
SUMMARY: WNAZ Radio Station Interest Meeting
DESCRIPTION:<p><span>An interest meeting for those interested in participating in the college radio station for 2019-2020. <\span><\p>
LOCATION:A-14 (Peace Theater)\, Arts Center
END:VEVENT
END:VCALENDAR
