BEGIN:VCALENDAR
VERSION:2.0
PRODID:-//hacksw/handcal//NONSGML v1.0//EN
METHOD:PUBLISH
X-WR-TIMEZONE:America/New_York
BEGIN:VEVENT
UID:4729@events.naz.edu
DTSTART:20191112T163000Z
DTEND:20191112T180000Z
SUMMARY: Reciprocity in Service Learning
DESCRIPTION:<p><span>Service Learning Lecture Series. This inaugural  event will feature a speaker from one of Nazareth's community partners. Faculty\, students and community partners are welcome to attend. The event is free and open to the public.<\span><\p>\n<p>PANELISTS:<\p>\n<ul>\n<li>Ms. Roslyn Mosley\, Community Place of Greater Rochester<\li>\n<li>Mr. Isaac Bliss\, Quad A for Kids<\li>\n<li>Mr. Shalym Nater\, IBERO Action League<\li>\n<li>Nazareth College students<\li>\n<\ul>
LOCATION:Forum\, Shults Center
END:VEVENT
END:VCALENDAR
