BEGIN:VCALENDAR
VERSION:2.0
PRODID:-//hacksw/handcal//NONSGML v1.0//EN
METHOD:PUBLISH
X-WR-TIMEZONE:America/New_York
BEGIN:VEVENT
UID:4843@events.naz.edu
DTSTART:20191101T180000Z
DTEND:20191101T200000Z
SUMMARY: Men's Swimming and Diving vs Alfred
DESCRIPTION:<p>The Golden Flyers host Alfred at 6 p.m<\p>\n<p>If you can't make the game\, watch the webcast and follow live stats <a href=\"https:\\portal.stretchinternet.com\nazareth\\">here<\a><\p>
LOCATION:Shults Center\, Pool
END:VEVENT
END:VCALENDAR
