BEGIN:VCALENDAR
VERSION:2.0
PRODID:-//hacksw/handcal//NONSGML v1.0//EN
METHOD:PUBLISH
X-WR-TIMEZONE:America/New_York
BEGIN:VEVENT
UID:4902@events.naz.edu
DTSTART:20191122T160000Z
DTEND:20191122T180000Z
SUMMARY: Pre-Health Interviewing Workshop
DESCRIPTION:<p>This is an opportunity for junior and senior pre-health students to learn about and practice their interviewing skills. It will be an interactive workshop. Come dressed nicely and ready to learn.<\p>
LOCATION: Peckham Hall\, Room 306\, Classroom
END:VEVENT
END:VCALENDAR
