BEGIN:VCALENDAR
VERSION:2.0
PRODID:-//hacksw/handcal//NONSGML v1.0//EN
METHOD:PUBLISH
X-WR-TIMEZONE:America/New_York
BEGIN:VEVENT
UID:4984@events.naz.edu
DTSTART:20200218T120000Z
DTEND:20200218T150000Z
SUMMARY:Office of Research\, Scholarship\, and Information (ORSI) Info Day!
DESCRIPTION:<p><span>Come learn about what the Office of Research\, Scholarship\, and Information (ORSI) does and what we can do for you! Meet the ORSI team\, learn more about grant opportunities\, student research\, internal funding opportunities\, upcoming events and CARS (Creative Activity and Research Showcase). There will be t-shirts\, prizes\, and fun swag! <\span><\p>
LOCATION: Shults Community Ctr\, Hallway in front of Forum
END:VEVENT
END:VCALENDAR
