BEGIN:VCALENDAR
VERSION:2.0
PRODID:-//hacksw/handcal//NONSGML v1.0//EN
METHOD:PUBLISH
X-WR-TIMEZONE:America/New_York
BEGIN:VEVENT
UID:4997@events.naz.edu
DTSTART:20191203T170000Z
DTEND:20191203T190000Z
SUMMARY: Beaded Pearl Earring Workshop
DESCRIPTION:<p>Come and make beautiful earrings &amp; create your early holiday gifts!<\p>\n<p>Nazareth students make two pairs FREE!<\p>\n<p>All proceeds will be donated to the French House to support our students in French &amp; Francophone Studies.<\p>\n<p>Suggested Donations:<\p>\n<p>3 pairs for $13<\p>\n<p>$5 per pair<\p>\n<p>RSVP: <a href=\"mailto:mlebret5@naz.edu\">mlebret5@naz.edu<\a><\p>
LOCATION:Golisano Academic Ctr\, Room 396
END:VEVENT
END:VCALENDAR
