BEGIN:VCALENDAR
VERSION:2.0
PRODID:-//hacksw/handcal//NONSGML v1.0//EN
METHOD:PUBLISH
X-WR-TIMEZONE:America/New_York
BEGIN:VEVENT
UID:5031@events.naz.edu
DTSTART:20200124T193000Z
DTEND:20200124T213000Z
SUMMARY:Opera Workshop: Hansel and Gretel
DESCRIPTION:<p>Witches and magical gingerbread houses come to life in Engelbert Humperdinck’s <em>Hansel and Gretel<\em>\, presented by the Nazareth College Opera Workshop. Based on the classic fairy tale by the Grim brothers\, the story follows siblings Hansel and Gretel as they find a life-size gingerbread house in the woods. However\, nothing is what it seems as they soon discover in this opera performed in English. Free and open to the public!<\p>\n<p>Emily Cuk\, stage director<br \>Kevin Nitsch\, musical director<\p>\n<p><strong>Performances<\strong><\p>\n<ul>\n<li>Friday\, January 24 at 7:30 p.m.<\li>\n<li>Saturday\, January 25 at 7:30 p.m.<\li>\n<li>Sunday\, January 26 at 2 p.m.<\li>\n<\ul>
LOCATION:Beston Hall\, Glazer Music Performance Center
RRULE:FREQ=DAILY;COUNT=3
END:VEVENT
BEGIN:VEVENT
UID:1015-override@events.naz.edu
DTSTART:20200126T140000Z
DTEND:20200126T160000Z
SUMMARY:Opera Workshop: Hansel and Gretel
RECURRENCE-ID:20200126T193000Z
END:VEVENT
END:VCALENDAR
