BEGIN:VCALENDAR
VERSION:2.0
PRODID:-//hacksw/handcal//NONSGML v1.0//EN
METHOD:PUBLISH
X-WR-TIMEZONE:America/New_York
BEGIN:VEVENT
UID:964@events.naz.edu
DTSTART:20150421T190000Z
DTEND:20150421T210000Z
SUMMARY:Documentary Film: The Return
DESCRIPTION:<p>With no access to their heritage\, four young women are forging a new sense of self in this documentary film. In the country that was once the epicenter of the Jewish world\, and now regarded as \"the Jewish graveyard\"\, they are figuring out how to be Jewish in today's Poland. After the film showing\, there will be a short question and answer series regarding the overseas trip\, <em>The March: Bearing Witness to Hope<\em>.<\p>\n<p>Please watch the trailer <a href=\"http:\\www.thereturndocumentary.com\film\trailer\">http:\\www.thereturndocumentary.com\film\trailer<\a> <\p>
LOCATION:A-14 (Peace Theater)\, Arts Center
END:VEVENT
END:VCALENDAR
